BEGIN:VCALENDAR
VERSION:2.0
PRODID:-//fullcirclehealth - ECPv4.6.2//NONSGML v1.0//EN
CALSCALE:GREGORIAN
METHOD:PUBLISH
X-WR-CALNAME:fullcirclehealth
X-ORIGINAL-URL:http://fullcirclehealth.ie
X-WR-CALDESC:Events for fullcirclehealth
BEGIN:VEVENT
DTSTART;TZID=UTC+0:20171026T100000
DTEND;TZID=UTC+0:20171026T190000
DTSTAMP:20171105T091729
CREATED:20171019T124414Z
LAST-MODIFIED:20171019T124414Z
UID:1169-1509012000-1509044400@fullcirclehealth.ie
SUMMARY:Clinic Hours
DESCRIPTION:
URL:http://fullcirclehealth.ie/event/clinic-hours-2/
END:VEVENT
END:VCALENDAR